BEGIN:VCALENDAR
VERSION:2.0
PRODID:-//Toledo Pride - ECPv6.15.17//NONSGML v1.0//EN
CALSCALE:GREGORIAN
METHOD:PUBLISH
X-WR-CALNAME:Toledo Pride
X-ORIGINAL-URL:https://toledopride.com
X-WR-CALDESC:Events for Toledo Pride
REFRESH-INTERVAL;VALUE=DURATION:PT1H
X-Robots-Tag:noindex
X-PUBLISHED-TTL:PT1H
BEGIN:VTIMEZONE
TZID:UTC
BEGIN:STANDARD
TZOFFSETFROM:+0000
TZOFFSETTO:+0000
TZNAME:UTC
DTSTART:20220101T000000
END:STANDARD
END:VTIMEZONE
BEGIN:VEVENT
DTSTART;TZID=UTC:20230818T180000
DTEND;TZID=UTC:20230818T220000
DTSTAMP:20260422T070356
CREATED:20220404T223300Z
LAST-MODIFIED:20230320T211350Z
UID:6988-1692381600-1692396000@toledopride.com
SUMMARY:2023 Toledo Pride - Kick-Off
DESCRIPTION:Become a SponsorJoin us for Toledo Pride – Kick-Off held at Promenade Park with live music and drag shows. \nInformation will be updated as soon as we have it. Follow us on Facebook to get most recent updates. \nPlease keep in mind that there may be other events in Downtown Toledo (Mud Hens baseball\, events at the Huntington Arena\, etc.) that could effect parking downtown\, and rates will vary with individual parking locations.
URL:https://toledopride.com/event/toledo-pride-kick-off/
LOCATION:Promenade Park\, 400 Water St\, Toledo\, OH\, 43604\, United States
END:VEVENT
END:VCALENDAR