BEGIN:VCALENDAR
VERSION:2.0
PRODID:-//Toledo Pride - ECPv6.15.17//NONSGML v1.0//EN
CALSCALE:GREGORIAN
METHOD:PUBLISH
X-ORIGINAL-URL:https://toledopride.com
X-WR-CALDESC:Events for Toledo Pride
REFRESH-INTERVAL;VALUE=DURATION:PT1H
X-Robots-Tag:noindex
X-PUBLISHED-TTL:PT1H
BEGIN:VTIMEZONE
TZID:UTC
BEGIN:STANDARD
TZOFFSETFROM:+0000
TZOFFSETTO:+0000
TZNAME:UTC
DTSTART:20240101T000000
END:STANDARD
END:VTIMEZONE
BEGIN:VEVENT
DTSTART;TZID=UTC:20250815T170000
DTEND;TZID=UTC:20250817T170000
DTSTAMP:20260424T091713
CREATED:20240412T200147Z
LAST-MODIFIED:20250709T210639Z
UID:7503-1755277200-1755450000@toledopride.com
SUMMARY:Toledo Pride 2025
DESCRIPTION:TOLEDO PRIDE 2025 \nToledo Pride is Northwest Ohio’s largest and most recognized event for the LGBTQIA+ community. We are celebrating our Sweet 16! Join us in downtown Toledo this year for 3 days of festivities from Friday\, August 15th\, through Sunday\, August 17th. \nToledo Pride includes many exciting events for our community\, including: \n\nToledo Pride – Kick-Off: Friday\, August 15th\, 2025 | Promenade Park 5-10 pm\nPride Parade: Saturday\, August 16th\, 2025 | Promenade Park 12 pm (noon)\nToledo Pride – Day Two: Saturday\, August 16th\, 2025 1-10 pm\nBrunch Crawl: Sunday\, August 17th\, 2025 | Adams St. & Beyond 1-5 pm\n\nThe Toledo Pride Festival is a large-scale\, outdoor event showcasing some of the best local entertainment including drag queens and musical acts. This annual festival boasts a pride parade\, food\, merchandise vendors\, and networking with numerous community organizations\, including social groups\, churches\, and health and wellness groups. \nPlease stay tuned for more information! \nBecome a Sponsor
URL:https://toledopride.com/event/toledo-pride-2025/
LOCATION:Promenade Park\, 400 Water St\, Toledo\, OH\, 43604\, United States
ATTACH;FMTTYPE=image/png:https://toledopride.com/wp-content/uploads/2024/04/TOLEDO-PRIDE-2025-WEBSITE-EVENT-COVER-PHOTO.png
END:VEVENT
BEGIN:VEVENT
DTSTART;TZID=UTC:20250817T130000
DTEND;TZID=UTC:20250817T170000
DTSTAMP:20260424T091713
CREATED:20220404T224603Z
LAST-MODIFIED:20250710T161513Z
UID:7001-1755435600-1755450000@toledopride.com
SUMMARY:Toledo Pride 2025 Big Rainbow Brunch
DESCRIPTION:Become a SponsorToledo Pride 2025: Big Rainbow Brunch  \nGet ready to sip\, snack\, and celebrate with us across downtown Toledo! For just $5\, you’ll get a wristband that unlocks exclusive specials at each participating bar\, restaurant\, and shop. \nEvery stop will feature a signature drink or dish inspired by a color of the rainbow\, so you can taste the rainbow—literally. \nWhat your wristband gets you: \nAccess to rainbow-themed food & drink specials \nDiscounts or surprises at participating shops \nA full day of Pride-filled fun with your community \nWristbands are a one-time $5 fee and will be available the day of the event.More info to come—stay tuned!Follow us on Facebook for the latest updates and the full list of participating venues.
URL:https://toledopride.com/event/toledo-pride-big-rainbow-brunch/
LOCATION:OH
ATTACH;FMTTYPE=image/png:https://toledopride.com/wp-content/uploads/2022/04/TOLEDO-PRIDE-BIG-RAINBOW-BRUNCH-FB-EVENT-COVER-1920-x-1080-px.png
END:VEVENT
END:VCALENDAR