BEGIN:VCALENDAR
VERSION:2.0
PRODID:-//Toledo Pride - ECPv6.15.17//NONSGML v1.0//EN
CALSCALE:GREGORIAN
METHOD:PUBLISH
X-ORIGINAL-URL:https://toledopride.com
X-WR-CALDESC:Events for Toledo Pride
REFRESH-INTERVAL;VALUE=DURATION:PT1H
X-Robots-Tag:noindex
X-PUBLISHED-TTL:PT1H
BEGIN:VTIMEZONE
TZID:UTC
BEGIN:STANDARD
TZOFFSETFROM:+0000
TZOFFSETTO:+0000
TZNAME:UTC
DTSTART:20240101T000000
END:STANDARD
END:VTIMEZONE
BEGIN:VEVENT
DTSTART;TZID=UTC:20250822T180000
DTEND;TZID=UTC:20250822T220000
DTSTAMP:20260424T091820
CREATED:20250709T220750Z
LAST-MODIFIED:20250709T221048Z
UID:8013-1755885600-1755900000@toledopride.com
SUMMARY:PRIDE NIGHT WITH THE CITY
DESCRIPTION:The City of Toledo will be hosting a night for all to celebrate love\, identity\, and community with us at Pride Night\, a themed roller skating night at the Ottawa Park Ice Rink! Whether you’re part of the LGBTQ+ community or an ally\, everyone is welcome.\n \nCome as you are — bring friends\, bring family\, and show your pride. Reserve your tickets online and join the celebration.
URL:https://toledopride.com/event/pride-night-with-the-city/
LOCATION:Ottawa Park Ice Rink\, 2015 Parkside Dr.\, Toledo\, OH\, 43609\, United States
ATTACH;FMTTYPE=image/png:https://toledopride.com/wp-content/uploads/2025/07/PRIDE-NIGHT-ROLLER-SKATING.png
END:VEVENT
END:VCALENDAR